BEGIN:VCALENDAR
VERSION:2.0
PRODID:-//Hamburger Hospiz am Deich - ECPv6.15.20//NONSGML v1.0//EN
CALSCALE:GREGORIAN
METHOD:PUBLISH
X-WR-CALNAME:Hamburger Hospiz am Deich
X-ORIGINAL-URL:https://deich.hamburger-hospiz.de
X-WR-CALDESC:Veranstaltungen fÃ¼r Hamburger Hospiz am Deich
REFRESH-INTERVAL;VALUE=DURATION:PT1H
X-Robots-Tag:noindex
X-PUBLISHED-TTL:PT1H
BEGIN:VTIMEZONE
TZID:Europe/Berlin
BEGIN:DAYLIGHT
TZOFFSETFROM:+0100
TZOFFSETTO:+0200
TZNAME:CEST
DTSTART:20220327T010000
END:DAYLIGHT
BEGIN:STANDARD
TZOFFSETFROM:+0200
TZOFFSETTO:+0100
TZNAME:CET
DTSTART:20221030T010000
END:STANDARD
BEGIN:DAYLIGHT
TZOFFSETFROM:+0100
TZOFFSETTO:+0200
TZNAME:CEST
DTSTART:20230326T010000
END:DAYLIGHT
BEGIN:STANDARD
TZOFFSETFROM:+0200
TZOFFSETTO:+0100
TZNAME:CET
DTSTART:20231029T010000
END:STANDARD
BEGIN:DAYLIGHT
TZOFFSETFROM:+0100
TZOFFSETTO:+0200
TZNAME:CEST
DTSTART:20240331T010000
END:DAYLIGHT
BEGIN:STANDARD
TZOFFSETFROM:+0200
TZOFFSETTO:+0100
TZNAME:CET
DTSTART:20241027T010000
END:STANDARD
END:VTIMEZONE
BEGIN:VEVENT
DTSTART;TZID=Europe/Berlin:20231028T100000
DTEND;TZID=Europe/Berlin:20231028T163000
DTSTAMP:20260419T235745
CREATED:20230517T112021Z
LAST-MODIFIED:20231025T101507Z
UID:2049-1698487200-1698510600@deich.hamburger-hospiz.de
SUMMARY:Hospiz im Helenenstift: Trauer in Form und Farbe
DESCRIPTION:Die Veranstaltung muss leider ausfallen!\n  \nTrauer ist ein langer\, vielleicht lebenslanger Wandlungsprozess. Trauern heiÃŸt\, sich erinnern und immer wieder neu nach Liebe und Verbundenheit suchen. \nDieses Tagesseminar gibt Gelegenheit einen lÃ¤nger zurÃ¼ckliegenden Verlust zu betrachten\, einen Verlust\, der noch einmal angeschaut und in Form und Farbe ausgedrÃ¼ckt werden mÃ¶chte. Im GesprÃ¤ch versuchen wir mit Hilfe von Gestaltungselementen wie Farben\, Stoffen und Bildern unsere Trauer\, aber auch unsere Liebe und Zuversicht zu erkennen und erleben. KÃ¼nstlerische Fertigkeiten sind NICHT erforderlich. \nEin Mittagessen sorgt fÃ¼r ein weiteres gemeinschaftliches Erleben. Das Seminar richtet sich an sieben Hinterbliebene\, die sich bereits mit ihrer Trauer auseinandergesetzt haben und auf ihren Trauerweg zurÃ¼ckblicken wollen. Wiebke Joschko\, Trauerbegleiterin und selbst kÃ¼nstlerisch tÃ¤tig\, leitet das Seminar. \nDie Teilnahme an diesem Tagesseminar ist kostenfrei; unsere Trauerarbeit wird ausschlieÃŸlich Ã¼ber Spenden finanziert. \n  \nSpenden heiÃŸt mitwirken\nHamburger Hospiz im Helenenstift\nIBAN: DE 48 4306 0967 1290 3151 00\nStichwort: &#8222;Trauerarbeit&#8220;
URL:https://deich.hamburger-hospiz.de/veranstaltungen/hospiz-im-helenenstift-trauer-in-form-und-farbe/
LOCATION:Hamburger Hospiz im Helenenstift\, HelenenstraÃŸe 12\, Hamburg\, 22765\, Deutschland
CATEGORIES:Abgesagt
ATTACH;FMTTYPE=image/jpeg:https://deich.hamburger-hospiz.de/wp-content/uploads/2023/05/Die-Veranstaltung-muss-leider-ausfallen-1.jpg
ORGANIZER;CN="Hamburger Hospiz im Helenenstift - Trauerarbeit":MAILTO:trauer@hamburger-hospiz.de
END:VEVENT
END:VCALENDAR