BEGIN:VCALENDAR
VERSION:2.0
PRODID:-//Hamburger Hospiz am Deich - ECPv6.15.20//NONSGML v1.0//EN
CALSCALE:GREGORIAN
METHOD:PUBLISH
X-ORIGINAL-URL:https://deich.hamburger-hospiz.de
X-WR-CALDESC:Veranstaltungen für Hamburger Hospiz am Deich
REFRESH-INTERVAL;VALUE=DURATION:PT1H
X-Robots-Tag:noindex
X-PUBLISHED-TTL:PT1H
BEGIN:VTIMEZONE
TZID:Europe/Berlin
BEGIN:DAYLIGHT
TZOFFSETFROM:+0100
TZOFFSETTO:+0200
TZNAME:CEST
DTSTART:20230326T010000
END:DAYLIGHT
BEGIN:STANDARD
TZOFFSETFROM:+0200
TZOFFSETTO:+0100
TZNAME:CET
DTSTART:20231029T010000
END:STANDARD
BEGIN:DAYLIGHT
TZOFFSETFROM:+0100
TZOFFSETTO:+0200
TZNAME:CEST
DTSTART:20240331T010000
END:DAYLIGHT
BEGIN:STANDARD
TZOFFSETFROM:+0200
TZOFFSETTO:+0100
TZNAME:CET
DTSTART:20241027T010000
END:STANDARD
BEGIN:DAYLIGHT
TZOFFSETFROM:+0100
TZOFFSETTO:+0200
TZNAME:CEST
DTSTART:20250330T010000
END:DAYLIGHT
BEGIN:STANDARD
TZOFFSETFROM:+0200
TZOFFSETTO:+0100
TZNAME:CET
DTSTART:20251026T010000
END:STANDARD
END:VTIMEZONE
BEGIN:VEVENT
DTSTART;TZID=Europe/Berlin:20241006T110000
DTEND;TZID=Europe/Berlin:20241006T123000
DTSTAMP:20260424T135544
CREATED:20240920T111947Z
LAST-MODIFIED:20240927T130926Z
UID:3355-1728212400-1728217800@deich.hamburger-hospiz.de
SUMMARY:Hospiz im Helenenstift: Eröffnung der Benefizkunstauktion "grenzen weit"
DESCRIPTION:Zu Beginn der Hamburger Hospizwoche eröffnen wir am 6. Oktober 2024 von 11.00 bis 12.30 Uhr unsere diesjährige Benefizkunstauktion. Über 60 Künstler*innen\, darunter Udo Lindenberg\, wirken mit und stiften je ein Werk unter dem Motto „grenzen weit“. Gemälde\, Patchwork-Arbeiten\, Fotografien und Skulpturen werden gegen Höchstgebot versteigert. Der Erlös kommt der Arbeit im Hamburger Hospiz im Helenenstift zugute. \nDie Eröffnung der Ausstellung findet am 6. Oktober 2024 um 11 Uhr statt. Nach einer Einführung in die Ausstellung durch einige der teilnehmenden Künstler*innen und in die Arbeit des Hamburger Hospizes im Helenenstift können Sie die Bilder in Ruhe besichtigen\, viele der ausstellenden Künstler*innen persönlich treffen und direkt Ihre Gebote abgeben. Darüber hinaus gibt es auch Musik zu hören: Sebastian von Düring-Weckler spielt eigene Werke und bekannte Stücke auf der Handpan. \nAusstellung und Versteigerung laufen bis zum 8. Dezember 2024. In dieser Zeit können Kunst- und Hospizfreunde die Ausstellung rund um die Uhr online besichtigen und mitbieten: https://auktion.hamburger-hospiz.de/start.php. Die Ausstellung findet im Hamburger Hospiz im Helenenstift statt. Der Eintritt ist frei. Die Besichtigung ist am Sonntag\, 6. Oktober\, 11 bis 17 Uhr\, und anschließend nach Anmeldung möglich: Tel. 38 90 75-0\, -38 90 75-207 oder veranstaltungen@hamburger-hospiz.de. \nHier geht es zum Veranstaltungsflyer.
URL:https://deich.hamburger-hospiz.de/veranstaltungen/eroeffnung-der-benefizkunstauktion-grenzenweit/
LOCATION:Hamburger Hospiz im Helenenstift\, Helenenstraße 12\, Hamburg\, 22765\, Deutschland
CATEGORIES:Benefizkunstauktion,Tag der offenen Tür
ATTACH;FMTTYPE=image/jpeg:https://deich.hamburger-hospiz.de/wp-content/uploads/2024/09/Untitled-design-8.jpg
ORGANIZER;CN="Hamburger Hospiz im Helenenstift":MAILTO:veranstaltungen@hamburger-hospiz.de
END:VEVENT
BEGIN:VEVENT
DTSTART;TZID=Europe/Berlin:20241006T110000
DTEND;TZID=Europe/Berlin:20241006T170000
DTSTAMP:20260424T135544
CREATED:20240621T105040Z
LAST-MODIFIED:20240927T130903Z
UID:3210-1728212400-1728234000@deich.hamburger-hospiz.de
SUMMARY:Hospiz im Helenenstift: Tag der offenen Tür
DESCRIPTION:Im Rahmen der Hamburger Hospizwoche findet von 11.00 bis 17.00 Uhr ein Tag der offenen Tür im Hamburger Hospiz im Helenenstift statt. Haupt- und ehrenamtliche Hospizler*innen bieten Informationen über die Angebote des Hospizes im Helenenstift und beantworten Fragen. Dabei laden sie nicht nur zu offenen Gesprächen\, sondern auch zur Eröffnung unserer Ausstellung „grenzen weit“\, zu Führungen durch das stationäre Hospiz\, einer Gesprächsrunde und zu Kaffee und Kuchen ein. \nTagesprogramm \n\n\n\n11 Uhr\nEröffnung der Benefizkunstauktion „grenzen weit“\nIn unserer diesjährigen Benefizkunstauktion (vor Ort im Hospiz oder online bis zum 8. Dezember 2024) können rund 60 Kunstwerke verschiedener Künstler*innen ersteigert werden. Der Erlös kommt der Arbeit im Hospiz im Helenenstift zugute (ca. 75 Minuten).\nFür diesen Programmpunkt wird eine Anmeldung erbeten.\n\n\n13 Uhr\nFührung durch das Hospiz im Helenenstift (ca. 60 Minuten)\n\n\n14.15 Uhr\nGesprächsrunde mit haupt- und ehrenamtlichen Mitarbeitenden: Lasst uns reden! Über Sterben\, Tod\, Trauer und das Leben!\n(ca. 60 Minuten)\n\n\n16 Uhr\nFührung durch das Hospiz im Helenenstift (ca. 60 Minuten)\n\n\n\n\n\n\n\nDurchgehend von 11 bis 17 Uhr steht der Wünschwagen des ASB Hamburg zur Besichtigung im Hospizhof. Die ehrenamtlichen Wunscherfüller*innen des ASB beantworten gerne alle Fragen. \nTermin:                6. Oktober 2024\, 11 bis 17 Uhr\nOrt:                      Hamburger Hospiz im Helenenstift\, Helenenstraße 12\, Altona\nEintritt:                Kostenfrei\, wir freuen uns über Ihre Spende\nInfos/Fragen:      veranstaltungen@hamburger-hospiz.de und Tel. 040- 389075-205
URL:https://deich.hamburger-hospiz.de/veranstaltungen/hospiz-im-helenenstift-tag-der-offenen-tuer-2/
LOCATION:Hamburger Hospiz im Helenenstift\, Helenenstraße 12\, Hamburg\, 22765\, Deutschland
CATEGORIES:Tag der offenen Tür
ATTACH;FMTTYPE=image/jpeg:https://deich.hamburger-hospiz.de/wp-content/uploads/2024/09/Udo-Lindenberg-Stark-wie-zwei.jpg
ORGANIZER;CN="Hamburger Hospiz im Helenenstift":MAILTO:veranstaltungen@hamburger-hospiz.de
END:VEVENT
BEGIN:VEVENT
DTSTART;TZID=Europe/Berlin:20241008T170000
DTEND;TZID=Europe/Berlin:20241008T200000
DTSTAMP:20260424T135544
CREATED:20230504T144844Z
LAST-MODIFIED:20240425T113528Z
UID:2009-1728406800-1728417600@deich.hamburger-hospiz.de
SUMMARY:Hospiz im Helenenstift: Infoabend zum Qualifizierungskurs für die ambulante ehrenamtliche Hospizarbeit
DESCRIPTION:Mit einer Informationsveranstaltung stellt der ambulante Hospizberatungsdienst am 8. Oktober 2024 von 17:00 &#8211; 20:00 Uhr seinen im Januar 2025 beginnenden Qualifizierungskurs vor. \nEingeladen sind Menschen\, die überlegen\, sich in der ambulanten Sterbebegleitung zu engagieren. Die Teilnahme am Kurs bereitet auf die Begleitung unheilbar erkrankter Menschen und ihrer An- und Zugehörigen  in der Häuslichkeit\, in Pflegeheimen und Krankenhäusern vor. \nDer 100 stündige Kurs kostet 140 € (Ermäßigung möglich). \nWelche Menschen begleiten wir? Welche Erfahrungen und Aufgaben kommen auf mich zu? Werde ich den Aufgaben gewachsen sein? Wie werde ich unterstützt? Wie erleben bereits tätige Ehrenamtliche ihre Arbeit? Was kann ich in dem Qualifizierungskurs lernen? \nDie Koordinatorinnen des ambulanten Hospizdienstes im Helenenstift\, Martina Bozkurt\, Sandra Engels\, Annette Lange und Cordula Reifegerste\, beantworten Fragen und vermitteln über Texte und kleine Übungen den Teilnehmer*innen ein Gefühl dafür\, ob ein ehrenamtliches Engagement für sie zum jetzigen Lebenszeitpunkt stimmig ist.   \nTermin:            Dienstag\, 8. Oktober 2024\, von 17:00 &#8211; 20:00 Uhr\nOrt:                  Hamburger Hospiz im Helenenstift\, Helenenstraße 12\nAnmeldung:    hospizberatungsdienst@hamburger-hospiz.de\nTel.: 040-389075-204
URL:https://deich.hamburger-hospiz.de/veranstaltungen/hospiz-im-helenenstift-infoabend-zum-qualifizierungskurs-fuer-die-ambulante-ehrenamtliche-hospizarbeit/
LOCATION:Hamburger Hospiz im Helenenstift\, Helenenstraße 12\, Hamburg\, 22765\, Deutschland
CATEGORIES:Ehrenamt-Infoabend
ATTACH;FMTTYPE=image/jpeg:https://deich.hamburger-hospiz.de/wp-content/uploads/2023/05/IMG_0540-69.jpg
ORGANIZER;CN="Hamburger Hospiz im Helenenstift":MAILTO:veranstaltungen@hamburger-hospiz.de
END:VEVENT
BEGIN:VEVENT
DTSTART;TZID=Europe/Berlin:20241008T180000
DTEND;TZID=Europe/Berlin:20241008T200000
DTSTAMP:20260424T135544
CREATED:20240624T111632Z
LAST-MODIFIED:20240927T130818Z
UID:3214-1728410400-1728417600@deich.hamburger-hospiz.de
SUMMARY:Hospiz am Deich: "Letztes Geleit" - Ausstellungseröffnung und Gespräch
DESCRIPTION:„Letztes Geleit“ – Berufe rund um Tod und Bestattung \n8. Oktober 2024\, 18.00 bis 20.00 Uhr \nFür ihre Fotoreportage hat Therese Walther Menschen besucht und fotografiert\, die in Berufen rund um Tod und Bestattung arbeiten:  Bestatterinnen\, Mitarbeitende im Krematorium\, eine Urnengestalterin\, einen Floristen\, eine Trauerrednerin und einen Steinmetz. \nDie entstandenen Bilder waren unter dem Titel „Letztes Geleit“ bereits im November 2023 bei der Bestattungsmesse Happy End und Anfang 2024 im Hospiz im Helenenstift zu sehen. Nun werden sie im Rahmen der Hamburger Hospizwoche im Hamburger Hospiz am Deich noch einmal gezeigt. \n \nDie Sucherin – das ist die Porträt- und Reportage-Fotografin Therese Walther. \nDie Arbeit mit der Kamera ist für Therese Walther eine stetige Suchbewegung. Ihre Bilder strahlen oft Ruhe\, manchmal Stille aus. Immer findet sich auf ihnen eine große Lust an der Form. Sie mag das Klare\, Reduzierte und Konzentrierte. Poesie entwickelt sich bei ihr aus dem Vorgefundenen heraus\, seien es Dinge oder Menschen. Neugierig ist sie auf der Suche nach jener radikalen Schönheit\, die sichtbar wird\, wenn sich Menschen angstlos zeigen &#8211; genau so unterschiedlich\, zart\, schief\, verrückt\, wild und großartig wie sie sind. Lustvoll feiert ihre Fotografie Menschen in ihrer lebendigen und widerspenstigen Vielfalt. \nDie Sucherin fotografiert ausdrucksstarke Erinnerungs-Portraits im Rahmen der eigenen Bestattungs-Vorsorge. Sie erstellt auf Wunsch auch einfühlsame Totenbilder von verstorbenen Angehörigen. \n \nAusstellungseröffnung und Gespräch \nBei der Ausstellungseröffnung am Dienstag\, 8. Oktober\, um 18 Uhr im Hospiz am Deich sprechen wir mit Therese Walther über die Entstehung ihrer Ausstellung und auch mit zwei der Porträtierten\, der Urnengestalterin Ina Hattebier und der Trauerrednerin Stefanie Viereck. Sie berichten über ihre Arbeit\, ihre persönliche Sicht auf „die Dinge“ und die Erfahrung des Fotografiertwerdens in ganz unterschiedlichen Momenten ihrer Tätigkeit. \nFragen sind ausdrücklich erwünscht. \n \nSpäterer Besuch der Ausstellung \nDie Ausstellung „Letztes Geleit“ ist vom 8. bis 27. Oktober 2024 im Hospiz am Deich zu sehen und kann nach Absprache (Tel. 040 23 99 96 45 0 oder info@hamburger-hospiz-am-deich.de) dort besucht werden. \nDie Teilnahme an unseren Vorträgen etc. ist kostenlos; unsere Bildungsarbeit wird ausschließlich über Spenden finanziert. \nTermin: Dienstag\, 8. Oktober 2024\, von 18:00 bis 20:00 Uhr\nOrt: Hamburger Hospiz am Deich\, Allermöher Deich 445\, 21037 Hamburg\nBitte melden Sie sich an unter veranstaltungen@hamburger-hospiz-am-deich.de oder Tel. 0175 843 52 43. \nSpenden heißt mitwirken\nHamburger Hospiz am Deich gGmbH\nIBAN: DE 26 2005 0550 1502 6464 49
URL:https://deich.hamburger-hospiz.de/veranstaltungen/letztes-geleit-ausstellungseroeffnung-und-gespraech/
LOCATION:Hamburger Hospiz am Deich\, Hamburger Hospiz am Deich\, Allermöher Deich 445\, Hamburg\, Hamburg\, 21037
CATEGORIES:Kunst,Vortrag
ATTACH;FMTTYPE=image/jpeg:https://deich.hamburger-hospiz.de/wp-content/uploads/2024/01/urnen-hattebier.jpg
ORGANIZER;CN="Hamburger Hospiz am Deich":MAILTO:veranstaltungen@hamburger-hospiz-am-deich.de
END:VEVENT
BEGIN:VEVENT
DTSTART;TZID=Europe/Berlin:20241009T180000
DTEND;TZID=Europe/Berlin:20241009T200000
DTSTAMP:20260424T135544
CREATED:20240610T141213Z
LAST-MODIFIED:20240927T130750Z
UID:3173-1728496800-1728504000@deich.hamburger-hospiz.de
SUMMARY:Hospiz im Helenenstift: „Was bist du? Typ Grabesstille oder Typ Totentanz?“
DESCRIPTION:„Was bist du? Typ Grabesstille oder Typ Totentanz?“\nFür die eigene Bestattung vorsorgen – warum das für uns alle sinnvoll ist \n9. Oktober 2024\, 18.00 bis 20.00 Uhr \nDen eigenen Abschied zu planen und sich mit seiner Endlichkeit zu beschäftigen\, hat etwas Beruhigendes\, findet Gioia Königsmark. Eine gute Vorbereitung auf unsere eigene Bestattung hilft uns und unseren Lieben\, indem sie Raum schafft für das Wesentliche: Die Zeit der Abschiednahme und den Trauerprozess. \nSich mit der eigenen Sterblichkeit auseinanderzusetzen\, ist auf vielen Ebenen hilfreich. Auch der Austausch mit unseren Lieben ist wichtig\, für beide Seiten\, denn neben unseren eigenen Wünschen und Vorstellungen sollte auch die Frage eine Rolle spielen\, was unseren Wegbegleiter*innen dabei helfen kann\, ihren Trauerweg zu gehen und zurück ins Leben zu finden. \nBestattungsvorsorge kann und sollte viel mehr sein\, als einen Vorsorgevertrag mit einem Institut abzuschließen. Neben der Auswahl von Sarg\, Grabstein\, Blumenschmuck und Playlist für die Trauerfeier darf nämlich auch darüber gesprochen werden\, ob wir im Sarg auf dem Rücken oder auf der Seite liegen möchten. Ob wir Schuhe tragen wollen oder einen BH. Was außer uns in den Sarg soll und darf. Sich mit diesen Fragen auseinanderzusetzen und sich darüber austauschen\, das kann sogar Freude machen. \nÜber die klassischen Komponenten der Bestattungsvorsorge wie Vorsorgevollmachten\, Testamente und Bestattungsverfügungen spricht Gioia Königsmark natürlich ebenso gerne. Ihr Anliegen ist es\, Menschen grundsätzlich darüber zu informieren\, wie Bestattungen heutzutage so persönlich und individuell wie möglich gestaltet werden können – und wie sichergestellt werden kann\, dass wir auch nach unserem Tod bekommen\, was wir uns wünschen. \nGioia Königsmark kam aufgrund persönlicher Erfahrungen zum Bestattungsgewerbe. Ihre Motivation beschreibt sie selbst: „Mit 30 Jahren habe ich meine Mutter verloren. Ihr Wunsch war es\, ihren letzten Frieden auf dem Jakobsweg zu finden. Sie mochte die Vorstellung\, dass ein Teil von ihr zu Wind\, Wasser\, Feuer und Luft wird. Diesen Wunsch habe ich ihr erfüllt und ihre Asche auf dem Jakobsweg verteilt. Auf dem 300 Kilometer langen Weg und einer Reise voller Emotionen\, ist der Wunsch in mir geboren\, zu ermöglichen\, dass jeder Mensch eine besondere und individuelle Verabschiedung verdient hat.“ \nSo schuf Gioia Königsmark einen Ort\, an dem alle Emotionen und auch ungewöhnliche Wünsche und Bedürfnisse Raum und Zeit finden\, indem sie ihr eigenes Bestattungsinstitut eröffnete. \nTermin:                                9. Oktober 2024\, 18 Uhr \nOrt:                                       Hamburger Hospiz im Helenenstift\, Helenenstraße 12\, Altona \nEintritt:                                Kostenfrei\, wir freuen uns über Ihre Spende \nAnmeldung:                      veranstaltungen@hamburger-hospiz.de und Tel. 040- 389075-205
URL:https://deich.hamburger-hospiz.de/veranstaltungen/typ-grabesstille-oder-typ-totentanz/
LOCATION:Hamburger Hospiz im Helenenstift\, Helenenstraße 12\, Hamburg\, 22765\, Deutschland
CATEGORIES:Vortrag
ATTACH;FMTTYPE=image/jpeg:https://deich.hamburger-hospiz.de/wp-content/uploads/2023/09/Gioia-Koenigsmark-16-9.jpg
ORGANIZER;CN="Hamburger Hospiz im Helenenstift":MAILTO:veranstaltungen@hamburger-hospiz.de
END:VEVENT
BEGIN:VEVENT
DTSTART;TZID=Europe/Berlin:20241014T180000
DTEND;TZID=Europe/Berlin:20241014T193000
DTSTAMP:20260424T135544
CREATED:20231101T104500Z
LAST-MODIFIED:20240927T130721Z
UID:2596-1728928800-1728934200@deich.hamburger-hospiz.de
SUMMARY:Hospiz im Helenenstift: Moderierte Trauergruppe (Infoabend)
DESCRIPTION:14. Oktober 2024\, 18.00 bis 19.30 Uhr \nIn unseren Trauergruppen finden Sie einen geschützten Ort. Hier haben Sie Zeit\, Ihre Trauer auszudrücken. Wir arbeiten mit haltgebenden Ritualen\, Denkanstößen und dem Austausch in der Gruppe. \nIm Spätherbst beginnen im Hamburger Hospiz im Helenenstift gleich zwei moderierte Gesprächsgruppen für Hinterbliebene. Wegen der gleichbleibend großen Nachfrage werden wir zwei Gruppen anbieten\, eine wie immer am Montagabend (18 bis 20 Uhr) und eine am Dienstagvormittag (10 bis 12 Uhr). \nModeratorin der Montags-Trauergruppe ist Martina Petersen\, Trauerbegleiterin und Journalistin. Die Dienstagsgruppe übernimmt Inge Krause. Sie ist Trauerbegleiterin und systemische Therapeutin. \nDie Moderatorinnen und die Gruppenteilnehmer*innen stehen Ihnen behutsam zur Seite. Schnell entsteht ein wohltuendes Vertrauensverhältnis\, das entlastet und trägt. Die Teilnehmer*innen unterstützen einander einfühlsam und manchmal entstehen sogar neue Freundschaften. \nVoraussetzungen für die Teilnahme an einer Trauergruppe sind zunächst ein (telefonisches) Beratungsgespräch und anschließend die Teilnahme an der Infoveranstaltung zum gegenseitigen Kennenlernen. Wir bitten um Anmeldung. \nBei dem Informationsabend am Montag\, 14\, Oktober 2024\, haben Interessierte die Möglichkeit\, uns und unsere Arbeitsweise kennenzulernen und herauszufinden\, ob unser Angebot sich mit eigenen Bedürfnissen und Vorstellungen deckt. \nUnsere Gruppen richten sich an Hinterbliebene nach dem Verlust eines Partners/einer Partnerin\, eines Familienmitgliedes\, eines erwachsenen Kindes oder eines Freundes/einer Freundin. Der Zeitpunkt des Trauerfalls spielt keine Rolle für die Aufnahme in die Gruppe. \nZwölf Treffen liegen im Zeitraum von Oktober 2024 bis Februar 2025. Sie finden in der Regel wöchentlich statt. Nach ca. 12 Gruppentreffen entscheiden die 8 bis 10 Teilnehmer*innen\, ob sie sich weiterhin und eigenständig als Selbsthilfegruppe ohne Moderation treffen möchten. \nUnsere Trauerarbeit ist komplett spendenfinanziert. Das bedeutet: Sie soll nicht davon abhängig sein\, dass Hinterbliebene sie sich leisten können. Gleichwohl sind wir darauf angewiesen\, genügend Spenden für unsere Arbeit zu generieren – nur so können wir unser Angebot auf Dauer aufrechterhalten. \nTermin: Montag\, 14. Oktober 2024\, von 18:00 bis 19:30 Uhr\nOrt: Hamburger Hospiz im Helenenstift\, Helenenstraße 12\nBitte melden Sie sich an unter trauer@hamburger-hospiz.de oder Tel. 040 389075-205. \nSpenden heißt mitwirken\nHamburger Hospiz im Helenenstift\nIBAN: DE 48 4306 0967 1290 3151 00\nStichwort: &#8222;Trauerarbeit&#8220;
URL:https://deich.hamburger-hospiz.de/veranstaltungen/hospiz-im-helenenstift-moderierte-trauergruppe-infoabend-3/
LOCATION:Hamburger Hospiz im Helenenstift\, Helenenstraße 12\, Hamburg\, 22765\, Deutschland
CATEGORIES:Trauerarbeit
ATTACH;FMTTYPE=image/jpeg:https://deich.hamburger-hospiz.de/wp-content/uploads/2022/09/24-10-Trauergruppe-scaled.jpg
ORGANIZER;CN="Hamburger Hospiz im Helenenstift - Trauerarbeit":MAILTO:trauer@hamburger-hospiz.de
END:VEVENT
END:VCALENDAR