BEGIN:VCALENDAR
VERSION:2.0
PRODID:-//Hamburger Hospiz am Deich - ECPv6.15.20//NONSGML v1.0//EN
CALSCALE:GREGORIAN
METHOD:PUBLISH
X-WR-CALNAME:Hamburger Hospiz am Deich
X-ORIGINAL-URL:https://deich.hamburger-hospiz.de
X-WR-CALDESC:Veranstaltungen für Hamburger Hospiz am Deich
REFRESH-INTERVAL;VALUE=DURATION:PT1H
X-Robots-Tag:noindex
X-PUBLISHED-TTL:PT1H
BEGIN:VTIMEZONE
TZID:Europe/Berlin
BEGIN:DAYLIGHT
TZOFFSETFROM:+0100
TZOFFSETTO:+0200
TZNAME:CEST
DTSTART:20230326T010000
END:DAYLIGHT
BEGIN:STANDARD
TZOFFSETFROM:+0200
TZOFFSETTO:+0100
TZNAME:CET
DTSTART:20231029T010000
END:STANDARD
BEGIN:DAYLIGHT
TZOFFSETFROM:+0100
TZOFFSETTO:+0200
TZNAME:CEST
DTSTART:20240331T010000
END:DAYLIGHT
BEGIN:STANDARD
TZOFFSETFROM:+0200
TZOFFSETTO:+0100
TZNAME:CET
DTSTART:20241027T010000
END:STANDARD
BEGIN:DAYLIGHT
TZOFFSETFROM:+0100
TZOFFSETTO:+0200
TZNAME:CEST
DTSTART:20250330T010000
END:DAYLIGHT
BEGIN:STANDARD
TZOFFSETFROM:+0200
TZOFFSETTO:+0100
TZNAME:CET
DTSTART:20251026T010000
END:STANDARD
END:VTIMEZONE
BEGIN:VEVENT
DTSTART;TZID=Europe/Berlin:20240901T140000
DTEND;TZID=Europe/Berlin:20240901T170000
DTSTAMP:20260424T153633
CREATED:20240125T111146Z
LAST-MODIFIED:20240708T134647Z
UID:2771-1725199200-1725210000@deich.hamburger-hospiz.de
SUMMARY:Hamburger Hospiz am Deich: Tag der offenen Tür
DESCRIPTION:Lassen Sie sich durch das Hospiz führen. Kommen Sie ins Gespräch mit haupt- und ehrenamtlichen Hospizmitarbeitenden über unser Haus und unsere Arbeit. \nGenießen Sie Kaffee und Kuchen auf der Terrasse und in unserem großzügigen Hospizgarten. \nAußerdem geplant: Ein Bücherflohmarkt\, eine Kinder-Ecke und und und … \nDas Ganze findet im Rahmen des Herbst-Querbeets mit dem Motto „Vier- und Marschlande tischt auf“ statt. Zur Querbeet-Website geht es hier. \nEine Anmeldung ist nicht erforderlich. Wir freuen uns auf Sie! \nVier- und Marschlande Querbeet – ein Zusammenschluss unterschiedlichster Branchen\, Betriebe und Anbieter\, die eins gemeinsam haben: Sie lieben die Vier- und Marschlande\, sind stolz auf ihre Region und laden an zwei Wochenenden im Jahr alle Interessierten ein\, mal gucken zu kommen.
URL:https://deich.hamburger-hospiz.de/veranstaltungen/tag-der-offenen-tuer-herbst-querbeet/
LOCATION:Hamburger Hospiz am Deich\, Hamburger Hospiz am Deich\, Allermöher Deich 445\, Hamburg\, Hamburg\, 21037
CATEGORIES:Querbeet,Tag der offenen Tür
ATTACH;FMTTYPE=image/jpeg:https://deich.hamburger-hospiz.de/wp-content/uploads/2024/01/29.-und-30.-April-2023-Vier-und-Marschlande-blueht-auf-Das-Hospiz-am-Deich-ist-dabei-1-1.jpg
ORGANIZER;CN="Hamburger Hospiz am Deich":MAILTO:veranstaltungen@hamburger-hospiz-am-deich.de
END:VEVENT
BEGIN:VEVENT
DTSTART;TZID=Europe/Berlin:20240903T173000
DTEND;TZID=Europe/Berlin:20240903T190000
DTSTAMP:20260424T153633
CREATED:20240605T145120Z
LAST-MODIFIED:20240708T134705Z
UID:3163-1725384600-1725390000@deich.hamburger-hospiz.de
SUMMARY:Infoabend für die Trauergruppe im Hamburger Hospiz am Deich
DESCRIPTION:Trauergruppe im Hospiz am Deich ab September 2024\nInfoabend am Dienstag\, 3. September 2024\, 17.30 Uhr \nIn unserer Trauergruppe finden Sie einen geschützten Ort und haben Zeit\, Ihre Trauer auszudrücken. Wir arbeiten mit haltgebenden Ritualen\, Denkanstößen und dem Austausch in der Gruppe. \nEine Trauerbegleiterin und die Gruppenteilnehmer*innen stehen Ihnen dabei behutsam zur Seite. Schnell entsteht ein wohltuendes Vertrauensverhältnis\, das entlastet und trägt. Die Teilnehmer*innen unterstützen einander und manchmal entstehen sogar neue Freundschaften. \nDie Gruppen richten sich an erwachsene Hinterbliebene nach dem Verlust eines Partners/einer Partnerin\, eines Familienmitgliedes\, eines erwachsenen Kindes oder eines Freundes/einer Freundin. Der Zeitpunkt des Trauerfalls spielt keine Rolle für die Aufnahme in die Gruppe. \nVoraussetzung für die Teilnahme sind zunächst ein ausführliches Telefonat und dann der Besuch des Infoabends am 3. September. Die Trauergruppe findet vom 17. September bis zum 10. Dezember 2024 immer dienstags von 17.15 Uhr bis 19.15 Uhr im Hospiz am Deich statt. \nDie Teilnahme an unseren Trauergruppen ist kostenfrei; unsere Trauerarbeit wird ausschließlich über Spenden finanziert. \nBei Interesse wenden Sie sich bitte an: \nBettina Kok\nHamburger Hospiz am Deich\nb.kok@hamburger-hospiz-am-deich.de\nTel. 0175 843 52 43
URL:https://deich.hamburger-hospiz.de/veranstaltungen/infoabend-fuer-die-trauergruppe-im-hospiz-am-deich/
LOCATION:Hamburger Hospiz am Deich\, Hamburger Hospiz am Deich\, Allermöher Deich 445\, Hamburg\, Hamburg\, 21037
CATEGORIES:Trauerarbeit
ATTACH;FMTTYPE=image/jpeg:https://deich.hamburger-hospiz.de/wp-content/uploads/2024/06/schiffchen-auf-wasser.jpg
ORGANIZER;CN="Hamburger Hospiz am Deich":MAILTO:veranstaltungen@hamburger-hospiz-am-deich.de
END:VEVENT
BEGIN:VEVENT
DTSTART;TZID=Europe/Berlin:20240907T120000
DTEND;TZID=Europe/Berlin:20240907T150000
DTSTAMP:20260424T153633
CREATED:20240731T145633Z
LAST-MODIFIED:20240803T092603Z
UID:3296-1725710400-1725721200@deich.hamburger-hospiz.de
SUMMARY:Stiftung Hamburger Hospiz lädt ein ins Hamburger Hospiz am Deich
DESCRIPTION:Ein Angebot im Rahmen des Tags des offenen Denkmals Hamburg und der Hamburger Stiftungstage 2024\nDie Alte Schule Allermöhe-Oberwärts wurde von 1901 -1971 als Schulgebäude genutzt. Mit dem Wohngebäude für Schulleiter und Lehrer sowie dem ehemaligen Klassentrakt gibt das Gebäude ein besonderes bauliches Zeugnis einer historischen Schule. Die Alte Schule Allermöhe-Oberwärts wurde 2013 unter Denkmalschutz gestellt. Auf Initiative der Stiftung Hamburger Hospiz konnte das Gebäude aufwendig renoviert und zum stationären Hospiz umgebaut werden. Seit April 2023 bietet das Hamburger Hospiz am Deich ein Angebot für 14 schwerkranke Menschen in ihrer letzten Lebensphase. \nDie Stiftung Hamburger Hospiz lädt anlässlich des Denkmaltags herzlich ein in das Hamburger Hospiz am Deich\, das in der ehemaligen Schule Allermöhe-Oberwärts in Hamburg-Bergedorf beheimatet ist. Zu sehen gibt es eine Ausstellung von historischen Fotos der alten Schule Allermöhe-Oberwärts sowie halbstündliche Führungen durch das Hamburger Hospiz am Deich. Darüber hinaus Kaffee und Kuchen auf der Terrasse. \nKommen Sie vorbei und lernen Sie unsere Stiftung und unsere Arbeit kennen! \nAnmeldung & weitere Informationen \nZum Besuch des Hamburger Hospizes am Deich ist keine Anmeldung nötig. Möchten Sie jedoch an einer der Führungen teilnehmen\, bitten wir um Anmeldung bis 2. September per Mail an e.huster-nowack@hamburger-hospiz.de!
URL:https://deich.hamburger-hospiz.de/veranstaltungen/stiftung-hamburger-hospiz-laedt-ein-ins-hamburger-hospiz-am-deich/
LOCATION:Hamburger Hospiz am Deich\, Hamburger Hospiz am Deich\, Allermöher Deich 445\, Hamburg\, Hamburg\, 21037
CATEGORIES:Führung,Tag der offenen Tür,Veranstaltung Stiftung
ATTACH;FMTTYPE=image/jpeg:https://deich.hamburger-hospiz.de/wp-content/uploads/2024/07/Untitled-design-7.jpg
ORGANIZER;CN="Stiftung Hamburger Hospiz":MAILTO:veranstaltungen@hamburger-hospiz.de
END:VEVENT
BEGIN:VEVENT
DTSTART;TZID=Europe/Berlin:20240908T120000
DTEND;TZID=Europe/Berlin:20240908T163000
DTSTAMP:20260424T153633
CREATED:20240731T143208Z
LAST-MODIFIED:20240803T092727Z
UID:3289-1725796800-1725813000@deich.hamburger-hospiz.de
SUMMARY:Hamburger Hospiz im Helenenstift: Rundgänge "Auf den Spuren von Helene Donner" durch Altona
DESCRIPTION:Ein Angebot im Rahmen des Tags des offenen Denkmals Hamburg und der Hamburger Stiftungstage 2024\nDie Stiftung Hamburger Hospiz lädt ein zu Rundgängen „Auf den Spuren von Helene Donner“ an einige Orte ihres wohltätigen Wirkens in Altona. Stationen sind das Hamburger Hospiz im Helenenstift\, das Mutterhaus der DRK Schwesternschaft\, der Ort des ehemaligen Donner-Schlosses an der Elbe und das Altonaer Kinderkrankenhaus. Gestartet wird mit einem einleitenden Vortrag bei Kaffee und Kuchen im Helenenstift. \n\nStifterin und Wohltäterin: Helene Donner\nHelene Donner\, geborene Schröder (* 27. Dezember 1819 in Hamburg; † 30. November 1909 in Altona-Neumühlen) war eine deutsche Stifterin und Wohltäterin. Sie war die älteste Tochter von Johann Heinrich Schröder (1784–1883)\, Kaufmann und Bankier in Hamburg und London\, der 1868 in den preußischen Freiherrnstand erhoben worden war\, und Henriette von Schwartz (1798–1889). \nHelene heiratete am 13. September 1838 in Hamburg den Kaufmann und Bankier Bernhard Donner (* 30. November 1808 in Altona; † 27. November 1865 in Neumühlen)\, Inhaber der „Conrad Hinrich Donner Bank“ (von diesem nach Hamburg verlegt)\, Erbe der Besitzungen seines Vaters und Erbauer des Donner-Schlosses. Er war der Sohn des Unternehmers und Bankhausgründers Conrad Hinrich Donner (1774–1854) und von Elisabeth Willink (1784–1826). Nach 27 Jahren Ehe wurde die inzwischen siebenfache Mutter 1865 mit 46 Jahren Witwe. \nSie war eine der Anregerinnen des Vaterländischen Frauenvereins I und wurde bei der Gründungsversammlung im Donner-Schloss im Dezember 1869 dessen erste Vorsitzende. Im Jahr 1882 ließ sie in der Allee in Altona ein Heim und eine Ausbildungsstätte für Krankenschwestern bauen. Dieses nach ihr benannte Helenenstift besteht noch heute. \nInformationen und Anmeldung \nBitte melden Sie sich bis 2. September per Mail an e.huster-nowack@hamburger-hospiz.de zu einem der Rundgänge um 12.00 oder um 14.30 Uhr an.
URL:https://deich.hamburger-hospiz.de/veranstaltungen/hospiz-im-helenenstift-rundgang-auf-den-spuren-von-helene-donner-durch-altona/
LOCATION:Hamburger Hospiz im Helenenstift\, Helenenstraße 12\, Hamburg\, 22765\, Deutschland
CATEGORIES:Führung,Veranstaltung Stiftung
ATTACH;FMTTYPE=image/jpeg:https://deich.hamburger-hospiz.de/wp-content/uploads/2024/07/Denkmaltag-Helenenstift-16-zu-9.jpg
ORGANIZER;CN="Stiftung Hamburger Hospiz":MAILTO:veranstaltungen@hamburger-hospiz.de
END:VEVENT
END:VCALENDAR