BEGIN:VCALENDAR
VERSION:2.0
PRODID:-//Hamburger Hospiz am Deich - ECPv6.15.20//NONSGML v1.0//EN
CALSCALE:GREGORIAN
METHOD:PUBLISH
X-ORIGINAL-URL:https://deich.hamburger-hospiz.de
X-WR-CALDESC:Veranstaltungen für Hamburger Hospiz am Deich
REFRESH-INTERVAL;VALUE=DURATION:PT1H
X-Robots-Tag:noindex
X-PUBLISHED-TTL:PT1H
BEGIN:VTIMEZONE
TZID:Europe/Berlin
BEGIN:DAYLIGHT
TZOFFSETFROM:+0100
TZOFFSETTO:+0200
TZNAME:CEST
DTSTART:20230326T010000
END:DAYLIGHT
BEGIN:STANDARD
TZOFFSETFROM:+0200
TZOFFSETTO:+0100
TZNAME:CET
DTSTART:20231029T010000
END:STANDARD
BEGIN:DAYLIGHT
TZOFFSETFROM:+0100
TZOFFSETTO:+0200
TZNAME:CEST
DTSTART:20240331T010000
END:DAYLIGHT
BEGIN:STANDARD
TZOFFSETFROM:+0200
TZOFFSETTO:+0100
TZNAME:CET
DTSTART:20241027T010000
END:STANDARD
BEGIN:DAYLIGHT
TZOFFSETFROM:+0100
TZOFFSETTO:+0200
TZNAME:CEST
DTSTART:20250330T010000
END:DAYLIGHT
BEGIN:STANDARD
TZOFFSETFROM:+0200
TZOFFSETTO:+0100
TZNAME:CET
DTSTART:20251026T010000
END:STANDARD
END:VTIMEZONE
BEGIN:VEVENT
DTSTART;TZID=Europe/Berlin:20240505T140000
DTEND;TZID=Europe/Berlin:20240505T170000
DTSTAMP:20260424T214022
CREATED:20240124T122744Z
LAST-MODIFIED:20240124T122744Z
UID:2767-1714917600-1714928400@deich.hamburger-hospiz.de
SUMMARY:Tag der offenen Tür (Frühjahrs-Querbeet)
DESCRIPTION:Lassen Sie sich durch das Hospiz führen. Kommen Sie ins Gespräch mit haupt- und ehrenamtlichen Hospizmitarbeitenden über unser Haus und unsere Arbeit. \nGenießen Sie Kaffee und Kuchen auf der Terrasse und in unserem großzügigen Hospizgarten. \nAußerdem geplant: Ein Bücherflohmarkt\, eine Kinder-Ecke und und und … \nDas Ganze findet im Rahmen des Frühjahrs-Querbeets mit dem Motto „Vier- und Marschlande blüht auf“ statt. Zur Querbeet-Website geht es hier. \nEine Anmeldung ist nicht erforderlich. Wir freuen uns auf Sie! \nVier- und Marschlande Querbeet – ein Zusammenschluss unterschiedlichster Branchen\, Betriebe und Anbieter\, die eins gemeinsam haben: Sie lieben die Vier- und Marschlande\, sind stolz auf ihre Region und laden an zwei Wochenenden im Jahr alle Interessierten ein\, mal gucken zu kommen.
URL:https://deich.hamburger-hospiz.de/veranstaltungen/tag-der-offenen-tuer-fruehjahrs-querbeet/
LOCATION:Hamburger Hospiz am Deich\, Hamburger Hospiz am Deich\, Allermöher Deich 445\, Hamburg\, Hamburg\, 21037
CATEGORIES:Querbeet,Tag der offenen Tür
ATTACH;FMTTYPE=image/jpeg:https://deich.hamburger-hospiz.de/wp-content/uploads/2024/01/29.-und-30.-April-2023-Vier-und-Marschlande-blueht-auf-Das-Hospiz-am-Deich-ist-dabei-1.jpg
ORGANIZER;CN="Hamburger Hospiz am Deich":MAILTO:veranstaltungen@hamburger-hospiz-am-deich.de
END:VEVENT
BEGIN:VEVENT
DTSTART;TZID=Europe/Berlin:20240516T180000
DTEND;TZID=Europe/Berlin:20240516T193000
DTSTAMP:20260424T214022
CREATED:20240507T143549Z
LAST-MODIFIED:20240507T143549Z
UID:3120-1715882400-1715887800@deich.hamburger-hospiz.de
SUMMARY:Vortrag "Was kann Palliativmedizin leisten?"
DESCRIPTION:Im Rahmen der Vortragsreihe „Patientenakademie“ mit Chefärzt*innen des Bethesda Krankenhauses Bergedorf\, die Ende Oktober 2023 startete\, hält am 16. Mai die Chefärztin der Klinik für Anästhesiologie\, Anita König\, einen Vortrag zum Thema &#8222;Was kann Palliativmedizin leisten?&#8220;. \nErgänzend stellen Ralf Herzberg (Geschäftsführung) und Michaela Pohl (Stellvertretende Pflegedienstleitung) das Hamburger Hospiz am Deich vor und erläutern\, welche Rolle ein stationäres Hospiz innerhalb des palliativen Versorgungsnetzes im Bezirk Bergedorf spielt. \nDer Eintritt ist frei. Eine Anmeldung ist nicht notwendig.
URL:https://deich.hamburger-hospiz.de/veranstaltungen/vortrag-was-kann-palliativmedizin-leisten/
LOCATION:KörberHaus\, Holzhude 1\, Hamburg\, Hamburg\, 21029\, Deutschland
CATEGORIES:Vortrag
ATTACH;FMTTYPE=image/jpeg:https://deich.hamburger-hospiz.de/wp-content/uploads/2023/07/haus-mit-menschen-neu-16-9.jpg
END:VEVENT
END:VCALENDAR