BEGIN:VCALENDAR
VERSION:2.0
PRODID:-//Hamburger Hospiz am Deich - ECPv6.15.20//NONSGML v1.0//EN
CALSCALE:GREGORIAN
METHOD:PUBLISH
X-ORIGINAL-URL:https://deich.hamburger-hospiz.de
X-WR-CALDESC:Veranstaltungen für Hamburger Hospiz am Deich
REFRESH-INTERVAL;VALUE=DURATION:PT1H
X-Robots-Tag:noindex
X-PUBLISHED-TTL:PT1H
BEGIN:VTIMEZONE
TZID:Europe/Berlin
BEGIN:DAYLIGHT
TZOFFSETFROM:+0100
TZOFFSETTO:+0200
TZNAME:CEST
DTSTART:20230326T010000
END:DAYLIGHT
BEGIN:STANDARD
TZOFFSETFROM:+0200
TZOFFSETTO:+0100
TZNAME:CET
DTSTART:20231029T010000
END:STANDARD
BEGIN:DAYLIGHT
TZOFFSETFROM:+0100
TZOFFSETTO:+0200
TZNAME:CEST
DTSTART:20240331T010000
END:DAYLIGHT
BEGIN:STANDARD
TZOFFSETFROM:+0200
TZOFFSETTO:+0100
TZNAME:CET
DTSTART:20241027T010000
END:STANDARD
BEGIN:DAYLIGHT
TZOFFSETFROM:+0100
TZOFFSETTO:+0200
TZNAME:CEST
DTSTART:20250330T010000
END:DAYLIGHT
BEGIN:STANDARD
TZOFFSETFROM:+0200
TZOFFSETTO:+0100
TZNAME:CET
DTSTART:20251026T010000
END:STANDARD
END:VTIMEZONE
BEGIN:VEVENT
DTSTART;TZID=Europe/Berlin:20240320T180000
DTEND;TZID=Europe/Berlin:20240320T200000
DTSTAMP:20260425T003413
CREATED:20240125T124909Z
LAST-MODIFIED:20240125T124909Z
UID:2775-1710957600-1710964800@deich.hamburger-hospiz.de
SUMMARY:Hospiz im Helenenstift: "Letztes Geleit" - Ausstellungseröffnung und Gespräch
DESCRIPTION:„Letztes Geleit“ – Berufe rund um Tod und Bestattung \nFür ihre Fotoreportage hat Therese Walther Menschen besucht und fotografiert\, die in Berufen rund um Tod und Bestattung arbeiten:  Bestatterinnen\, Mitarbeitende im Krematorium\, eine Urnengestalterin\, einen Floristen\, eine Trauerrednerin und einen Steinmetz. \nDie entstandenen Bilder waren unter dem Titel „Letztes Geleit“ bereits im November 2023 bei der Bestattungsmesse Happy End zu sehen. Nun werden sie im Hamburger Hospiz im Helenenstift noch einmal gezeigt. \n \nDie Sucherin – das ist die Porträt- und Reportage-Fotografin Therese Walther. \nDie Arbeit mit der Kamera ist für Therese Walther eine stetige Suchbewegung. Ihre Bilder strahlen oft Ruhe\, manchmal Stille aus. Immer findet sich auf ihnen eine große Lust an der Form. Sie mag das Klare\, Reduzierte und Konzentrierte. Poesie entwickelt sich bei ihr aus dem Vorgefundenen heraus\, seien es Dinge oder Menschen. Neugierig ist sie auf der Suche nach jener radikalen Schönheit\, die sichtbar wird\, wenn sich Menschen angstlos zeigen &#8211; genau so unterschiedlich\, zart\, schief\, verrückt\, wild und großartig wie sie sind. Lustvoll feiert ihre Fotografie Menschen in ihrer lebendigen und widerspenstigen Vielfalt. \nDie Sucherin fotografiert ausdrucksstarke Erinnerungs-Portraits im Rahmen der eigenen Bestattungs-Vorsorge. Sie erstellt auf Wunsch auch einfühlsame Totenbilder von verstorbenen Angehörigen. \n \nAusstellungseröffnung und Gespräch \nBei der Ausstellungseröffnung am Mittwoch\, 20. März 2024\, um 18 Uhr im Helenenstift sprechen wir mit Therese Walther über die Entstehung ihrer Ausstellung und auch mit zwei der Porträtierten\, der Urnengestalterin Ina Hattebier und der Trauerrednerin Stefanie Viereck. Sie berichten über ihre Arbeit\, ihre persönliche Sicht auf „die Dinge“ und die Erfahrung des Fotografiertwerdens in ganz unterschiedlichen Momenten ihrer Tätigkeit. \nFragen sind ausdrücklich erwünscht. \n \nSpäterer Besuch der Ausstellung \nDie Ausstellung „Letztes Geleit“ ist vom 21. März bis zum 28. April im Hospiz im Helenenstift zu sehen und kann nach Absprache (Tel. 040 38 90 750 oder info@hamburger-hospiz.de) dort besucht werden. \nDie Teilnahme an unseren Vorträgen etc. ist kostenlos; unsere Bildungsarbeit wird ausschließlich über Spenden finanziert. \nTermin: Mittwoch\, 20. März 2024\, von 18:00 bis 20:00 Uhr\nOrt: Hamburger Hospiz im Helenenstift\, Helenenstraße 12\nBitte melden Sie sich an unter veranstaltungen@hamburger-hospiz.de oder Tel. 040 389075-205. \nSpenden heißt mitwirken\nHamburger Hospiz im Helenenstift\nIBAN: DE 48 4306 0967 1290 3151 00\nStichwort: &#8222;Bildungsarbeit&#8220;
URL:https://deich.hamburger-hospiz.de/veranstaltungen/hospiz-im-helenenstift-letztes-geleit-ausstellungseroeffnung-und-gespraech/
LOCATION:Hamburger Hospiz im Helenenstift\, Helenenstraße 12\, Hamburg\, 22765\, Deutschland
CATEGORIES:Kunst,Vortrag
ATTACH;FMTTYPE=image/jpeg:https://deich.hamburger-hospiz.de/wp-content/uploads/2024/01/urnen-hattebier.jpg
ORGANIZER;CN="Hamburger Hospiz im Helenenstift":MAILTO:veranstaltungen@hamburger-hospiz.de
END:VEVENT
END:VCALENDAR