BEGIN:VCALENDAR
VERSION:2.0
PRODID:-//Hamburger Hospiz am Deich - ECPv6.15.20//NONSGML v1.0//EN
CALSCALE:GREGORIAN
METHOD:PUBLISH
X-WR-CALNAME:Hamburger Hospiz am Deich
X-ORIGINAL-URL:https://deich.hamburger-hospiz.de
X-WR-CALDESC:Veranstaltungen für Hamburger Hospiz am Deich
REFRESH-INTERVAL;VALUE=DURATION:PT1H
X-Robots-Tag:noindex
X-PUBLISHED-TTL:PT1H
BEGIN:VTIMEZONE
TZID:Europe/Berlin
BEGIN:DAYLIGHT
TZOFFSETFROM:+0100
TZOFFSETTO:+0200
TZNAME:CEST
DTSTART:20240331T010000
END:DAYLIGHT
BEGIN:STANDARD
TZOFFSETFROM:+0200
TZOFFSETTO:+0100
TZNAME:CET
DTSTART:20241027T010000
END:STANDARD
BEGIN:DAYLIGHT
TZOFFSETFROM:+0100
TZOFFSETTO:+0200
TZNAME:CEST
DTSTART:20250330T010000
END:DAYLIGHT
BEGIN:STANDARD
TZOFFSETFROM:+0200
TZOFFSETTO:+0100
TZNAME:CET
DTSTART:20251026T010000
END:STANDARD
BEGIN:DAYLIGHT
TZOFFSETFROM:+0100
TZOFFSETTO:+0200
TZNAME:CEST
DTSTART:20260329T010000
END:DAYLIGHT
BEGIN:STANDARD
TZOFFSETFROM:+0200
TZOFFSETTO:+0100
TZNAME:CET
DTSTART:20261025T010000
END:STANDARD
END:VTIMEZONE
BEGIN:VEVENT
DTSTART;TZID=Europe/Berlin:20250616T180000
DTEND;TZID=Europe/Berlin:20250616T200000
DTSTAMP:20260420T031025
CREATED:20250422T123123Z
LAST-MODIFIED:20250422T123123Z
UID:4025-1750096800-1750104000@deich.hamburger-hospiz.de
SUMMARY:Hospiz am Deich: Darf man die Urne eigentlich behalten?
DESCRIPTION:Bestattungen dürfen individuell\, persönlich und bunt sein!\n&#8222;Darf man die Urne eigentlich behalten?&#8220; &#8211; &#8222;Mein Vater hat sich gewünscht\, dass seine Asche verstreut wird\, ist das erlaubt?&#8220; &#8211; Diese und weitere Fragen möchte Gioia Königsmark mit Interessierten gemeinsam von unterschiedlichen Seiten aus beleuchten. Es gibt nicht nur Schwarz und Weiß in der Welt des Bestattens. In einer sicherlich lebhaften Frage- und Antwortrunde klären wir nicht nur\, wie eventuelle Graustufen aussehen\, sondern wie der Abschied wahrhaft bunt gestaltet werden kann. \nWenn über Bestattungen gesprochen wird\, stehen meist viele Fragen im Raum: Was ist (in Deutschland) zulässig\, was nicht? Wie lassen sich individuelle Wünsche erfüllen – und kostet das nicht Unsummen? Das Kompostieren von Verstorbenen ist heute durch die &#8222;Reerdigung&#8220; kein Problem mehr\, aber wie ist es damit\, die Asche eines geliebten Menschen am Ring um den Finger zu tragen? Und was hat es mit diesem &#8222;Friedhofszwang“ auf sich? Ist der nicht völlig veraltet? \nGioa Königsmark kam aufgrund persönlicher Erfahrungen zum Bestattungsgewerbe. Ihre Motivation beschreibt sie selbst: &#8222;Mit 30 Jahren habe ich meine Mutter verloren. Gemeinsam haben wir Seite an Seite 13 Monate gegen den Krebs gekämpft. Wir haben gelacht und geweint\, in dem Wissen\, dass unsere Zeit endlich ist. Der Wunsch meiner Mutter war es\, ihren letzten Frieden auf dem Jakobsweg zu finden. Sie mochte die Vorstellung\, dass ein Teil von ihr zu Wind\, Wasser\, Feuer und Luft wird. Diesen Wunsch habe ich ihr erfüllt und ihre Asche auf dem Jakobsweg verteilt. Auf dem 300 Kilometer langen Weg und einer Reise voller Emotionen\, ist der Wunsch in mir geboren\, zu ermöglichen\, dass jeder Mensch eine besondere und individuelle Verabschiedung verdient hat.“ \nSo schuf Gioia Königsmark einen Ort\, an dem alle Emotionen und auch ungewöhnliche Wünsche und Bedürfnisse Raum und Zeit finden\, indem sie ihr eigenes Bestattungsinstitut eröffnete. Darüber hinaus ist es ihr ein Herzensanliegen\, Menschen grundsätzlich darüber zu informieren\, wie Bestattungen heutzutage so persönlich und individuell wie möglich gestaltet werden können. \nOrt des Geschehens: DRK Hamburg-Bergedorf\nAus Platzgründen findet diese Veranstaltung bei unseren direkten Nachbarn\, dem Deutschen Roten Kreuz (Kreisverband Hamburg-Bergedorf)\, statt\, deren Gebäude sich knapp hundert Meter entfernt vom Hospiz am Deich befindet. Beginn: 18.00 Uhr. \nVorherige Führung durch das Hospiz am Deich\nFür alle Besucher*innen\, die das Hospiz am Deich noch nicht von innen kennen\, besteht die Möglichkeit\, vorher &#8211; um 17.30 Uhr &#8211; an einer kleinen Führung durch das Hospiz teilzunehmen. Wenn Sie davon Gebrauch machen möchten\, geben Sie das bitte bei Ihrer Anmeldung an. \nTermin: Montag\, 16. Juni 2025\, 18.00 bis ca. 20.00 Uhr\nOrt: Deutsches Rotes Kreuz\, Kreisverband Hamburg-Bergedorf\, Allermöher Deich 437\, 21037 Hamburg\nAnmeldung: Bitte melden Sie sich unter veranstaltungen@hamburger-hospiz-am-deich.de oder unter 0175-843 52 43 an.\nEintritt: frei\, Spende erbeten \nSpenden heißt mitwirken\nHamburger Hospiz am Deich gGmbH\nIBAN: DE 26 2005 0550 1502 6464 49\nStichwort: Veranstaltungen
URL:https://deich.hamburger-hospiz.de/veranstaltungen/hospiz-am-deich-darf-man-die-urne-eigentlich-behalten/
LOCATION:DRK Hamburg Bergedorf (direkt nebenan)\, Allermöher Deich 437\, Hamburg\, Hamburg\, 21037\, Deutschland
CATEGORIES:Vortrag
ATTACH;FMTTYPE=image/jpeg:https://deich.hamburger-hospiz.de/wp-content/uploads/2025/04/Gioia-Koenigsmark-16-9.jpg
ORGANIZER;CN="Hamburger Hospiz am Deich":MAILTO:veranstaltungen@hamburger-hospiz-am-deich.de
END:VEVENT
END:VCALENDAR