BEGIN:VCALENDAR
VERSION:2.0
PRODID:-//Hamburger Hospiz am Deich - ECPv6.15.20//NONSGML v1.0//EN
CALSCALE:GREGORIAN
METHOD:PUBLISH
X-WR-CALNAME:Hamburger Hospiz am Deich
X-ORIGINAL-URL:https://deich.hamburger-hospiz.de
X-WR-CALDESC:Veranstaltungen für Hamburger Hospiz am Deich
REFRESH-INTERVAL;VALUE=DURATION:PT1H
X-Robots-Tag:noindex
X-PUBLISHED-TTL:PT1H
BEGIN:VTIMEZONE
TZID:Europe/Berlin
BEGIN:DAYLIGHT
TZOFFSETFROM:+0100
TZOFFSETTO:+0200
TZNAME:CEST
DTSTART:20240331T010000
END:DAYLIGHT
BEGIN:STANDARD
TZOFFSETFROM:+0200
TZOFFSETTO:+0100
TZNAME:CET
DTSTART:20241027T010000
END:STANDARD
BEGIN:DAYLIGHT
TZOFFSETFROM:+0100
TZOFFSETTO:+0200
TZNAME:CEST
DTSTART:20250330T010000
END:DAYLIGHT
BEGIN:STANDARD
TZOFFSETFROM:+0200
TZOFFSETTO:+0100
TZNAME:CET
DTSTART:20251026T010000
END:STANDARD
BEGIN:DAYLIGHT
TZOFFSETFROM:+0100
TZOFFSETTO:+0200
TZNAME:CEST
DTSTART:20260329T010000
END:DAYLIGHT
BEGIN:STANDARD
TZOFFSETFROM:+0200
TZOFFSETTO:+0100
TZNAME:CET
DTSTART:20261025T010000
END:STANDARD
END:VTIMEZONE
BEGIN:VEVENT
DTSTART;TZID=Europe/Berlin:20250219T180000
DTEND;TZID=Europe/Berlin:20250219T200000
DTSTAMP:20260420T090245
CREATED:20241219T130614Z
LAST-MODIFIED:20241219T130614Z
UID:3867-1739988000-1739995200@deich.hamburger-hospiz.de
SUMMARY:Hospiz im Helenenstift: Wenn Tote nicht tot sein dürfen
DESCRIPTION:Wenn Tote nicht tot sein dürfen &#8211; Plädoyer für eine wahrhaftige Sprache\nMit der Sprache fängt es an. Wie sprechen wir über den Tod? Unsicherheit und die Angst\, ein diffuses Pietätsempfinden zu verletzen\, verleiten oft zu Floskeln und Umschreibungen. Aber Menschen entschlafen nicht. Sie sterben. Wenn wir Tod und Sterben tabuisieren und aus der Sprache verbannen\, lassen wir auch der Trauer keinen Raum. Die Trauernden bleiben allein. Der Schmerz kehrt sich nach Innen. Was ohnehin schon hart und schwer ist\, wird noch härter und schwerer. Es gilt\, die Dinge beim Namen zu nennen\, die eigene Scheu zu überwinden und eine unbefangene Sprache zu wagen. Eine Sprache\, in der bei allem Schmerz eine tröstliche Leichtigkeit mitschwingt. Und immer wieder auch ein Lächeln. \nÜber die Tabuisierung des Todes und ihre Folgen spricht die Trauerrednerin Stefanie Viereck\, über den achtsamen Sprachgebrauch im täglichen Umgang mit An- und Zugehörigen die Bestatterin Bettina Strang. Im Anschluss freuen sich beide auf das Gespräch mit Ihnen. \n \nStefanie Viereck hat sich seit Jahrzehnten mit Sprache befasst. Sie hat zunächst als Wirtschaftsjournalistin gearbeitet\, sich später der Belletristik zugewandt\, lektoriert\, übersetzt und schließlich eigene Geschichten erzählt. Vor ein paar Jahren\, als mehrere ihr nahe Menschen starben\, ist ihr bewusst geworden\, wie sehr gemeinsames Erinnern hilft\, die Trauer zu besänftigen. Das Sprechen über die Toten. Das Erzählen ihrer Geschichte. Bei Annette Rosenfeld hat sie eine einjährige Ausbildung für Trauerredner*innen absolviert und seither den Erinnerungen vieler Trauernden beim Abschied Wort und Stimme gegeben. \nBettina Strang\, 1971 in Bonn geboren\, lebt seit 2010 in Hamburg. Sie ist Bestatterin im Trostwerk in Eimsbüttel\, schreibt freiberuflich Texte und Reden und ist regelmäßig Gast auf unterschiedlichen Lese- und Theaterbühnen. Schon als Kind liebte sie Spaziergänge auf Friedhöfen. Gedanken über das Sterben\, den Tod und die Lebendigkeit begleiten sie\, seit sie denken kann. Aus persönlichen und beruflichen Erfahrungen weiß sie\, wie gut das klar Ausgesprochene tut\, während uns vage Andeutungen meist hilflos machen und allein lassen. Ganz besonders beim Abschied nehmen. \nTermin:                                19. Februar 2025\, 18 bis 20 Uhr \nOrt:                                       Hamburger Hospiz im Helenenstift\, Helenenstraße 12\, Altona \nEintritt:                                Kostenfrei\, wir freuen uns über Ihre Spende \nAnmeldung:                      veranstaltungen@hamburger-hospiz.de und Tel. 040- 389075-205
URL:https://deich.hamburger-hospiz.de/veranstaltungen/hospiz-im-helenenstift-wenn-tote-nicht-tot-sein-duerfen/
LOCATION:Hamburger Hospiz im Helenenstift\, Helenenstraße 12\, Hamburg\, 22765\, Deutschland
CATEGORIES:Vortrag
ATTACH;FMTTYPE=image/jpeg:https://deich.hamburger-hospiz.de/wp-content/uploads/2024/12/Header-Tod-in-der-Sprache.jpg
ORGANIZER;CN="Hamburger Hospiz im Helenenstift":MAILTO:veranstaltungen@hamburger-hospiz.de
END:VEVENT
END:VCALENDAR