BEGIN:VCALENDAR
VERSION:2.0
PRODID:-//Hamburger Hospiz am Deich - ECPv6.15.20//NONSGML v1.0//EN
CALSCALE:GREGORIAN
METHOD:PUBLISH
X-ORIGINAL-URL:https://deich.hamburger-hospiz.de
X-WR-CALDESC:Veranstaltungen für Hamburger Hospiz am Deich
REFRESH-INTERVAL;VALUE=DURATION:PT1H
X-Robots-Tag:noindex
X-PUBLISHED-TTL:PT1H
BEGIN:VTIMEZONE
TZID:Europe/Berlin
BEGIN:DAYLIGHT
TZOFFSETFROM:+0100
TZOFFSETTO:+0200
TZNAME:CEST
DTSTART:20230326T010000
END:DAYLIGHT
BEGIN:STANDARD
TZOFFSETFROM:+0200
TZOFFSETTO:+0100
TZNAME:CET
DTSTART:20231029T010000
END:STANDARD
BEGIN:DAYLIGHT
TZOFFSETFROM:+0100
TZOFFSETTO:+0200
TZNAME:CEST
DTSTART:20240331T010000
END:DAYLIGHT
BEGIN:STANDARD
TZOFFSETFROM:+0200
TZOFFSETTO:+0100
TZNAME:CET
DTSTART:20241027T010000
END:STANDARD
BEGIN:DAYLIGHT
TZOFFSETFROM:+0100
TZOFFSETTO:+0200
TZNAME:CEST
DTSTART:20250330T010000
END:DAYLIGHT
BEGIN:STANDARD
TZOFFSETFROM:+0200
TZOFFSETTO:+0100
TZNAME:CET
DTSTART:20251026T010000
END:STANDARD
END:VTIMEZONE
BEGIN:VEVENT
DTSTART;TZID=Europe/Berlin:20241123T110000
DTEND;TZID=Europe/Berlin:20241123T140000
DTSTAMP:20260421T023000
CREATED:20240626T122956Z
LAST-MODIFIED:20240927T122543Z
UID:3217-1732359600-1732370400@deich.hamburger-hospiz.de
SUMMARY:Elbphilharmonie: Benefizkonzert des Hamburger Ärzteorchesters zugunsten der Stiftung Hamburger Hospiz im Großen Saal der Elbphilharmonie
DESCRIPTION:Wir freuen uns sehr\, dass das Hamburger Ärzteorchester auch in diesem Jahr wieder ein Konzert zugunsten der Arbeit der Stiftung Hamburger Hospiz spielen wird. Sind Sie dabei? \nEs gibt nur noch wenige Karten für 32 Euro unter www.elbphilharmonie.de. Greifen Sie zu! \nDas Hamburger Ärzteorchester wurde 1964 gegründet und besteht überwiegend aus Ärztinnen und Ärzten sowie ihnen durch familiäre und freundschaftliche Beziehungen verbundene oder in medizinnahen Berufen tätige Menschen. Die Leitung hat seit 2004 Thilo Jacques. Wir freuen uns sehr\, dass das Hamburger Ärzteorchester seit vielen Jahren an unserer Seite steht und wunderschöne Konzerte für uns spielt. \nProgramm: \n\nGeorges Bizet: Suite Arlésienne Nr. 2\nRichard Strauss: Hornkonzert Nr. 1  op. 11 in Es-Dur\nLudwig van Beethoven: Sinfonie Nr. 6  op 68 in F-Dur &#8222;Pastorale&#8220;\n\n \nHamburger Ärzteorchester\nClaudia Strenkert\, Horn\nThilo Jacques\, Musikalische Leitung \nDie Karten für das Benefizkonzert kosten einheitlich 32 Euro und sind erhältlich bei der Elbphilharmonie (www.elbphilharmonie.de) und den bekannten Vorverkaufsstellen. Der Vorverkauf beginnt am 2. Juli 2024. \nSind Sie dabei? Wir würden uns sehr freuen!
URL:https://deich.hamburger-hospiz.de/veranstaltungen/elbphilharmonie-benefizkonzert-des-hamburger-aerzteorchesters/
LOCATION:Elbphilharmonie\, Großer Saal\, Platz der Deutschen Einheit 4\, Hamburg\, Hamburg\, 20457\, Deutschland
CATEGORIES:Benefiz-Konzert,Elbphilharmonie,Veranstaltung Stiftung
ATTACH;FMTTYPE=image/jpeg:https://deich.hamburger-hospiz.de/wp-content/uploads/2024/06/HAeO-Mai-2024-16-zu-9.jpg
ORGANIZER;CN="Stiftung Hamburger Hospiz":MAILTO:veranstaltungen@hamburger-hospiz.de
END:VEVENT
END:VCALENDAR