BEGIN:VCALENDAR
VERSION:2.0
PRODID:-//Hamburger Hospiz am Deich - ECPv6.15.20//NONSGML v1.0//EN
CALSCALE:GREGORIAN
METHOD:PUBLISH
X-WR-CALNAME:Hamburger Hospiz am Deich
X-ORIGINAL-URL:https://deich.hamburger-hospiz.de
X-WR-CALDESC:Veranstaltungen für Hamburger Hospiz am Deich
REFRESH-INTERVAL;VALUE=DURATION:PT1H
X-Robots-Tag:noindex
X-PUBLISHED-TTL:PT1H
BEGIN:VTIMEZONE
TZID:Europe/Berlin
BEGIN:DAYLIGHT
TZOFFSETFROM:+0100
TZOFFSETTO:+0200
TZNAME:CEST
DTSTART:20230326T010000
END:DAYLIGHT
BEGIN:STANDARD
TZOFFSETFROM:+0200
TZOFFSETTO:+0100
TZNAME:CET
DTSTART:20231029T010000
END:STANDARD
BEGIN:DAYLIGHT
TZOFFSETFROM:+0100
TZOFFSETTO:+0200
TZNAME:CEST
DTSTART:20240331T010000
END:DAYLIGHT
BEGIN:STANDARD
TZOFFSETFROM:+0200
TZOFFSETTO:+0100
TZNAME:CET
DTSTART:20241027T010000
END:STANDARD
BEGIN:DAYLIGHT
TZOFFSETFROM:+0100
TZOFFSETTO:+0200
TZNAME:CEST
DTSTART:20250330T010000
END:DAYLIGHT
BEGIN:STANDARD
TZOFFSETFROM:+0200
TZOFFSETTO:+0100
TZNAME:CET
DTSTART:20251026T010000
END:STANDARD
END:VTIMEZONE
BEGIN:VEVENT
DTSTART;TZID=Europe/Berlin:20240413T120000
DTEND;TZID=Europe/Berlin:20240413T150000
DTSTAMP:20260425T003032
CREATED:20240227T141309Z
LAST-MODIFIED:20240227T141309Z
UID:2790-1713009600-1713020400@deich.hamburger-hospiz.de
SUMMARY:Frühlingsempfang der Stiftung Hamburger Hospiz
DESCRIPTION:Frühlingsempfang der Stiftung Hamburger Hospiz und 1-jähriges Bestehen des Hamburger Hospizes am Deich \nDie Stiftung Hamburger Hospiz lädt herzlich zu ihrem jährlichen Frühlingsempfang ein\, dieses Mal zum ersten Mal im Hamburger Hospiz am Deich (der Plan ist\, diese Veranstaltung abwechselnd in den beiden Hospizen stattfinden zu lassen). \nGleichzeitig besteht das Hamburger Hospiz am Deich ein Jahr. Auch das ist ein Grund zu feiern. \nWas erwartet Sie? \nAnregende Gespräche\, ein hausgemachtes Buffet\, frühlingshafte Getränke. \nSind Sie dabei? \nWann: Samstag\, 13. April 2024\, 12 bis 15 Uhr \nWo: Hamburger Hospiz am Deich\, Allermöher Deich 445\, 21037 Hamburg \nWir freuen uns sehr auf Ihre Zusage unter e.huster-nowack@hamburger-hospiz.de oder unter Tel. 0173 216 75 22
URL:https://deich.hamburger-hospiz.de/veranstaltungen/fruehlingsempfang-der-stiftung-hamburger-hospiz/
LOCATION:Hamburger Hospiz am Deich\, Hamburger Hospiz am Deich\, Allermöher Deich 445\, Hamburg\, Hamburg\, 21037
CATEGORIES:Frühlingsempfang,Veranstaltung Stiftung
ATTACH;FMTTYPE=image/jpeg:https://deich.hamburger-hospiz.de/wp-content/uploads/2024/02/stiefmuetterchen-quadrat.jpg
ORGANIZER;CN="Stiftung Hamburger Hospiz":MAILTO:veranstaltungen@hamburger-hospiz.de
END:VEVENT
END:VCALENDAR