BEGIN:VCALENDAR
VERSION:2.0
PRODID:-//Hamburger Hospiz am Deich - ECPv6.15.20//NONSGML v1.0//EN
CALSCALE:GREGORIAN
METHOD:PUBLISH
X-WR-CALNAME:Hamburger Hospiz am Deich
X-ORIGINAL-URL:https://deich.hamburger-hospiz.de
X-WR-CALDESC:Veranstaltungen für Hamburger Hospiz am Deich
REFRESH-INTERVAL;VALUE=DURATION:PT1H
X-Robots-Tag:noindex
X-PUBLISHED-TTL:PT1H
BEGIN:VTIMEZONE
TZID:Europe/Berlin
BEGIN:DAYLIGHT
TZOFFSETFROM:+0100
TZOFFSETTO:+0200
TZNAME:CEST
DTSTART:20230326T010000
END:DAYLIGHT
BEGIN:STANDARD
TZOFFSETFROM:+0200
TZOFFSETTO:+0100
TZNAME:CET
DTSTART:20231029T010000
END:STANDARD
BEGIN:DAYLIGHT
TZOFFSETFROM:+0100
TZOFFSETTO:+0200
TZNAME:CEST
DTSTART:20240331T010000
END:DAYLIGHT
BEGIN:STANDARD
TZOFFSETFROM:+0200
TZOFFSETTO:+0100
TZNAME:CET
DTSTART:20241027T010000
END:STANDARD
BEGIN:DAYLIGHT
TZOFFSETFROM:+0100
TZOFFSETTO:+0200
TZNAME:CEST
DTSTART:20250330T010000
END:DAYLIGHT
BEGIN:STANDARD
TZOFFSETFROM:+0200
TZOFFSETTO:+0100
TZNAME:CET
DTSTART:20251026T010000
END:STANDARD
END:VTIMEZONE
BEGIN:VEVENT
DTSTART;TZID=Europe/Berlin:20240406T113000
DTEND;TZID=Europe/Berlin:20240406T160000
DTSTAMP:20260425T003015
CREATED:20240227T144658Z
LAST-MODIFIED:20240227T144658Z
UID:2921-1712403000-1712419200@deich.hamburger-hospiz.de
SUMMARY:Jubiläumsfeier Ambulanter Hospizberatungsdienst
DESCRIPTION:20 Jahre Ambulanter Hospizberatungsdienst im Hospiz im Helenenstift \nEin bedeutendes Jubiläum steht für den am Hamburger Hospiz im Helenenstift beheimateten Ambulanten Hospizberatungsdienst an. Seit 20 Jahren berät der Ambulante Hospizberatungsdienst betroffene Menschen sowie ihre An- und Zugehörigen; geschulte Ehrenamtliche begleiten Menschen in ihrer letzten Lebensphase in der Häuslichkeit\, im Krankenhaus und im Pflegeheim. Aktuell sind es knapp 100 Ehrenamtliche\, die von den vier hauptamtlichen Mitarbeiterinnen koordiniert und begleitet werden. \nDas ist auf jeden Fall ein Grund\, am 6. April 2024 mit vielen Ehrenamtlichen\, Hauptamtlichen und Gästen zu feiern. \nSie fühlen sich mit dem Ambulanten Hospizberatungsdienst im Hamburger Hospiz im Helenenstift verbunden? Dann feiern Sie doch mit uns! \nWann: Samstag\, 6. April 2024\, 12 Uhr \nWas erwartet Sie?:  \n\nBegrüßungskaffee und Snacks ab 11:30 Uhr\n20 Jahre Ambulanter Hospizberatungsdienst: Koordinatorinnen und Ehrenamtliche\nErfahrungsaustausch mit Kooperationspartnern über die ambulante Begleitung schwerstkranker Menschen am Lebensende\nFrühlingshafter Imbiss und Come Together\n\nModeration: Peter Wenig\, Journalist und Autor \nWo: Alfred Schnittke Akadamie International\, Max-Brauer-Allee 24\, 22765 Hamburg (gegenüber vom Altonaer Museum) \nUm Anmeldung wird gebeten unter veranstaltungen@hamburger-hospiz.de oder 040 38 90 75 0
URL:https://deich.hamburger-hospiz.de/veranstaltungen/jubilaeumsfeier-ambulanter-hospizberatungsdienst/
LOCATION:Alfred Schnittke Akademie International\, Max-Brauer-Allee 24\, Hamburg\, 22765\, Deutschland
CATEGORIES:Veranstaltung Stiftung
ATTACH;FMTTYPE=image/jpeg:https://deich.hamburger-hospiz.de/wp-content/uploads/2024/02/ambulant-16-zu-9.jpg
ORGANIZER;CN="Stiftung Hamburger Hospiz":MAILTO:veranstaltungen@hamburger-hospiz.de
END:VEVENT
END:VCALENDAR